BEGIN:VCALENDAR
VERSION:2.0
PRODID:-//Murrells Inlet MarshWalk - ECPv6.15.20//NONSGML v1.0//EN
CALSCALE:GREGORIAN
METHOD:PUBLISH
X-WR-CALNAME:Murrells Inlet MarshWalk
X-ORIGINAL-URL:https://marshwalk.com
X-WR-CALDESC:Events for Murrells Inlet MarshWalk
REFRESH-INTERVAL;VALUE=DURATION:PT1H
X-Robots-Tag:noindex
X-PUBLISHED-TTL:PT1H
BEGIN:VTIMEZONE
TZID:America/New_York
BEGIN:DAYLIGHT
TZOFFSETFROM:-0500
TZOFFSETTO:-0400
TZNAME:EDT
DTSTART:20210314T070000
END:DAYLIGHT
BEGIN:STANDARD
TZOFFSETFROM:-0400
TZOFFSETTO:-0500
TZNAME:EST
DTSTART:20211107T060000
END:STANDARD
BEGIN:DAYLIGHT
TZOFFSETFROM:-0500
TZOFFSETTO:-0400
TZNAME:EDT
DTSTART:20220313T070000
END:DAYLIGHT
BEGIN:STANDARD
TZOFFSETFROM:-0400
TZOFFSETTO:-0500
TZNAME:EST
DTSTART:20221106T060000
END:STANDARD
BEGIN:DAYLIGHT
TZOFFSETFROM:-0500
TZOFFSETTO:-0400
TZNAME:EDT
DTSTART:20230312T070000
END:DAYLIGHT
BEGIN:STANDARD
TZOFFSETFROM:-0400
TZOFFSETTO:-0500
TZNAME:EST
DTSTART:20231105T060000
END:STANDARD
END:VTIMEZONE
BEGIN:VEVENT
DTSTART;VALUE=DATE:20220627
DTEND;VALUE=DATE:20221001
DTSTAMP:20260424T143100
CREATED:20220627T171121Z
LAST-MODIFIED:20220627T173235Z
UID:1824-1656288000-1664582399@marshwalk.com
SUMMARY:75 Days of Summer
DESCRIPTION:Now Through September 30\, We Are Featuring FIVE Amazing Summer Drinks At Each Of Our Eight MarshWalk Restaurants For ONLY $8 Each! Take In Our Amazing Inlet Views\, Live Entertainment\, Amazing Food\, And Now These Tasty Summer Cocktails To Add To The Fun! Choose From High Noon Lemon\, High Noon Peach\, Pink Whitney Spiked Lemonade\, Gran Margarita With Gran Coramino Tequila\, And Pirate’s Punch With Blackheart Spiced Rum Available All Along The MarshWalk This Summer!
URL:https://marshwalk.com/calendar/75-days-of-summer/
LOCATION:The Murrells Inlet MarshWalk\, 4025 Hwy 17 Business\, Murrells Inlet\, SC\, 29576\, United States
ATTACH;FMTTYPE=image/jpeg:https://marshwalk.com/wp-content/uploads/2022/06/75-Days-Facebook-Event-Cover-22.jpg
END:VEVENT
END:VCALENDAR