BEGIN:VCALENDAR
VERSION:2.0
PRODID:-//Murrells Inlet MarshWalk - ECPv6.15.20//NONSGML v1.0//EN
CALSCALE:GREGORIAN
METHOD:PUBLISH
X-ORIGINAL-URL:https://marshwalk.com
X-WR-CALDESC:Events for Murrells Inlet MarshWalk
REFRESH-INTERVAL;VALUE=DURATION:PT1H
X-Robots-Tag:noindex
X-PUBLISHED-TTL:PT1H
BEGIN:VTIMEZONE
TZID:America/New_York
BEGIN:DAYLIGHT
TZOFFSETFROM:-0500
TZOFFSETTO:-0400
TZNAME:EDT
DTSTART:20240310T070000
END:DAYLIGHT
BEGIN:STANDARD
TZOFFSETFROM:-0400
TZOFFSETTO:-0500
TZNAME:EST
DTSTART:20241103T060000
END:STANDARD
BEGIN:DAYLIGHT
TZOFFSETFROM:-0500
TZOFFSETTO:-0400
TZNAME:EDT
DTSTART:20250309T070000
END:DAYLIGHT
BEGIN:STANDARD
TZOFFSETFROM:-0400
TZOFFSETTO:-0500
TZNAME:EST
DTSTART:20251102T060000
END:STANDARD
BEGIN:DAYLIGHT
TZOFFSETFROM:-0500
TZOFFSETTO:-0400
TZNAME:EDT
DTSTART:20260308T070000
END:DAYLIGHT
BEGIN:STANDARD
TZOFFSETFROM:-0400
TZOFFSETTO:-0500
TZNAME:EST
DTSTART:20261101T060000
END:STANDARD
END:VTIMEZONE
BEGIN:VEVENT
DTSTART;TZID=America/New_York:20251031T170000
DTEND;TZID=America/New_York:20251031T200000
DTSTAMP:20260421T145151
CREATED:20250210T212003Z
LAST-MODIFIED:20250210T212003Z
UID:2229-1761930000-1761940800@marshwalk.com
SUMMARY:Halloween on the MarshWalk!
DESCRIPTION:Murrells Inlet\, SC – Ghosts\, goblins\, and ghouls of all ages will fill the Marsh at this year’s annual Halloween on the MarshWalk. The Marshwalk’s longest running and most successful event\, Halloween on the MarshWalk brings fun and prizes to the whole family! All eight of the\nMarshWalk restaurants will have amazing food and drink specials. \nFestivities begin at 5pm with Trick-or-Treating along the MarshWalk for the kids. The annual Children’s Costume Contest is at 6pm in front of Drunken Jack’s at the Pirate Statue. Prizes will be awarded for the Most Creative\, Best Group\, and Funniest for kids ages three and up. Kids ages two and under will compete for the Awes Applause award. Prizes include trophies\, ribbons\, and candy bags. \nThe Adult Costume Contest will begin at 7pm. Over $4000 in cash and prizes will be awarded to the top costumes. Categories include Best Duo\, Best Group\, Best Individual\, Most Creative\, Big & Bulky\, Murrells Inlet Themed and Honorable Mention. \nThis year’s Final Judging location will be at Sloppy Jose’s Cantina and Seafood Grille at 9:30pm. Everyone participating will need to register between 7pm-8:30pm in between Wahoo’s and Drunken Jack’s. Please know which category that you would like to enter when you arrive at registration. \nJudges will be strolling the MarshWalk this year looking for the best costumes until 9pm! But remember- you MUST register in between Wahoo’s and Drunken Jack’s between 7:00-8:30pm to be eligible to win prizes. \nMake sure to enjoy food and drinks at our eight participating MarshWalk restaurant locations: Bovine’s\, Wahoo’s\, Drunken Jack’s\, Creek Ratz\, Dead Dog Saloon\, The Claw House\, The Wicked Tuna\, and Sloppy Jose’s Cantina and Seafood Grille. \nFor rules\, regulations and complete contest details visit www.marshwalk.com \, our Facebook page (@TheMarshWalkofMurrellsInlet) or call the MarshWalk answering service (843) 497-3450.
URL:https://marshwalk.com/calendar/halloween-on-the-marshwalk-2025/
LOCATION:The Murrells Inlet MarshWalk\, 4025 Hwy 17 Business\, Murrells Inlet\, SC\, 29576\, United States
ATTACH;FMTTYPE=image/png:https://marshwalk.com/wp-content/uploads/2025/02/MW-Halloween-FB-Event-Cover-25-Preview.png
END:VEVENT
END:VCALENDAR