BEGIN:VCALENDAR
VERSION:2.0
PRODID:-//Murrells Inlet MarshWalk - ECPv6.15.20//NONSGML v1.0//EN
CALSCALE:GREGORIAN
METHOD:PUBLISH
X-ORIGINAL-URL:https://marshwalk.com
X-WR-CALDESC:Events for Murrells Inlet MarshWalk
REFRESH-INTERVAL;VALUE=DURATION:PT1H
X-Robots-Tag:noindex
X-PUBLISHED-TTL:PT1H
BEGIN:VTIMEZONE
TZID:America/New_York
BEGIN:DAYLIGHT
TZOFFSETFROM:-0500
TZOFFSETTO:-0400
TZNAME:EDT
DTSTART:20240310T070000
END:DAYLIGHT
BEGIN:STANDARD
TZOFFSETFROM:-0400
TZOFFSETTO:-0500
TZNAME:EST
DTSTART:20241103T060000
END:STANDARD
BEGIN:DAYLIGHT
TZOFFSETFROM:-0500
TZOFFSETTO:-0400
TZNAME:EDT
DTSTART:20250309T070000
END:DAYLIGHT
BEGIN:STANDARD
TZOFFSETFROM:-0400
TZOFFSETTO:-0500
TZNAME:EST
DTSTART:20251102T060000
END:STANDARD
BEGIN:DAYLIGHT
TZOFFSETFROM:-0500
TZOFFSETTO:-0400
TZNAME:EDT
DTSTART:20260308T070000
END:DAYLIGHT
BEGIN:STANDARD
TZOFFSETFROM:-0400
TZOFFSETTO:-0500
TZNAME:EST
DTSTART:20261101T060000
END:STANDARD
END:VTIMEZONE
BEGIN:VEVENT
DTSTART;TZID=America/New_York:20251128T170000
DTEND;TZID=America/New_York:20251231T230000
DTSTAMP:20260421T132140
CREATED:20250210T213406Z
LAST-MODIFIED:20250210T213406Z
UID:2231-1764349200-1767222000@marshwalk.com
SUMMARY:MarshWalk Wonderland of Lights- The South Strand's Only Free Walkthrough Christmas Light Display!
DESCRIPTION:Murrells Inlet\, SC – It really is guaranteed to be the most wonderful time of the year at the Murrells Inlet MarshWalk this holiday season!\nWe are so pleased to announce that not only will our MarshWalk Wonderland of Lights walk-through Christmas light experience be returning to the Murrells Inlet MarshWalk this season\, but it is sure to be our most spectacular Christmas light display yet! \nBring the family\, a friend\, or that special someone and stroll the holiday lights on the MarshWalk. Relax and enjoy the salt air breeze while getting into the holiday spirit- and have a Merry MarshWalk Christmas. \nThis spectacular Christmas light walk-through experience will feature our eight MarshWalk restaurants’ buildings along the ½ mile boardwalk outlined in an array of Christmas lights paired with stunning arches synced with festive Christmas music in front of each restaurant! Our display includes thousands of lights themed with the best Christmas songs that will be sure to get you in the holiday spirit! \nThe light show starts at the top and bottom of the hour from 5pm-11pm nightly. Our huge 20′ LED Christmas tree will be featured at the end of Veteran’s pier and will make the perfect backdrop for your holiday photos and is also visible from any restaurant along the MarshWalk! \nWe will also have many festive photo opportunities spread throughout the MarshWalk for you to stop and pose with along the way including a Candy Cane Arch\, a Gingerbread House\, Santa\, and a giant Christmas Ornament. \nSanta’s Village will feature children’s activities\, a petting zoo\, barrel cart rides\, visits with Santa\, Princess and Christmas Characters\, and so much more! Our Santa’s Village will be available Fridays-Sundays 5pm-9pm from November 28th-December 21st.\n*Some children’s activities will be available for additional fees. \nChildren’s activities are located in between Wahoo’s and Drunken Jack’s and in the Wicked Tuna parking lot. \nSanta will be located on the roadside of Drunken Jack’s in front of their building and will be on his sleigh and ready to visit with you Fridays-Sundays 5pm-9pm from November 28th through December 21st. \nVendors will also be available on Saturday nights where you can enjoy Christmas shopping where you are sure to find the perfect gift! \nAdmission is FREE to the MarshWalk Wonderland of Lights walk-through experience. The MarshWalk Wonderland of Lights display will be available November 28th through December 31st. Please note that our Santa’s Village is only on Fridays through Sundays 5pm-9pm November 28th through December 21st. \nThe MarshWalk Group includes the following restaurants: Bovine’s\, Wahoo’s Fish House\, Drunken Jack’s\, Creek Ratz\, Dead Dog Saloon\, The Claw House\, The Wicked Tuna\, and Sloppy Jose’s Cantina and Seafood Grille. \nFor more information visit www.marshwalk.com or call the MarshWalk answering service (843) 497-3450.
URL:https://marshwalk.com/calendar/marshwalk-wonderland-of-lights-2025/
LOCATION:The Murrells Inlet MarshWalk\, 4025 Hwy 17 Business\, Murrells Inlet\, SC\, 29576\, United States
ATTACH;FMTTYPE=image/jpeg:https://marshwalk.com/wp-content/uploads/2025/02/WOL-Facebook-Event-Cover-25-Preview-scaled.jpg
END:VEVENT
END:VCALENDAR