BEGIN:VCALENDAR
VERSION:2.0
PRODID:-//Murrells Inlet MarshWalk - ECPv6.15.20//NONSGML v1.0//EN
CALSCALE:GREGORIAN
METHOD:PUBLISH
X-ORIGINAL-URL:https://marshwalk.com
X-WR-CALDESC:Events for Murrells Inlet MarshWalk
REFRESH-INTERVAL;VALUE=DURATION:PT1H
X-Robots-Tag:noindex
X-PUBLISHED-TTL:PT1H
BEGIN:VTIMEZONE
TZID:America/New_York
BEGIN:DAYLIGHT
TZOFFSETFROM:-0500
TZOFFSETTO:-0400
TZNAME:EDT
DTSTART:20250309T070000
END:DAYLIGHT
BEGIN:STANDARD
TZOFFSETFROM:-0400
TZOFFSETTO:-0500
TZNAME:EST
DTSTART:20251102T060000
END:STANDARD
BEGIN:DAYLIGHT
TZOFFSETFROM:-0500
TZOFFSETTO:-0400
TZNAME:EDT
DTSTART:20260308T070000
END:DAYLIGHT
BEGIN:STANDARD
TZOFFSETFROM:-0400
TZOFFSETTO:-0500
TZNAME:EST
DTSTART:20261101T060000
END:STANDARD
BEGIN:DAYLIGHT
TZOFFSETFROM:-0500
TZOFFSETTO:-0400
TZNAME:EDT
DTSTART:20270314T070000
END:DAYLIGHT
BEGIN:STANDARD
TZOFFSETFROM:-0400
TZOFFSETTO:-0500
TZNAME:EST
DTSTART:20271107T060000
END:STANDARD
END:VTIMEZONE
BEGIN:VEVENT
DTSTART;TZID=America/New_York:20260217T170000
DTEND;TZID=America/New_York:20260217T213000
DTSTAMP:20260421T080047
CREATED:20260127T143744Z
LAST-MODIFIED:20260217T230000Z
UID:2308-1771347600-1771363800@marshwalk.com
SUMMARY:Marshi Gras on the MarshWalk
DESCRIPTION:The Murrells Inlet MarshWalk brings Louisiana to South Carolina with Marshi Gras on the MarshWalk!\nOn Tuesday February 17th\, the MarshWalk will hold a costume parade led by Marshi Gras’ very own King and Queen. Giveaways of over $1\,000 in cash and prizes will be awarded to the top four costumes. \nParade and costume registration begins at 5 PM to 6:30 PM. Anyone can join the parade along the way\, but only the participants who registered will be considered for prizes. Our judges will be watching the parade and only registered costumes are eligible to win the prizes. You must be at least 18 years of age to participate in our adult costume contest. If spectators do not have an awesome costume to wear\, no fear! Each of the eight restaurants and bars at the MarshWalk will be giving away accessories and party favors including masks\, beads\, and much more! \nDon’t forget to stop in to each restaurant and try some authentic cuisine as well. We know all that parading can make you thirsty\, so take advantage of the nightly drink specials. Come throw some beads with us this Marshi Gras right here on the Murrells Inlet MarshWalk! \nTime: 5pm – 9pm\n• Registration Place- Tuna Shak\n• Registration Time- 5pm-6:30pm\n• Parade Starting Place- Tuna Shak\n• Parade Start Time- 7pm\n• Judging Place- Bovine’s Restaurant\n• Judging Time- 9pm \nPrizes:\n1st Place: $500 and $50 in MarshWalk Gift Cards\n2nd Place: $300 and $50 MarshWalk Gift Cards\n3rd Place: $200 and $50 in MarshWalk Gift Cards\nHonorable Mention- $50 in MarshWalk Gift Card
URL:https://marshwalk.com/calendar/marshi-gras-on-the-marshwalk-3/
LOCATION:The Murrells Inlet MarshWalk\, 4025 Hwy 17 Business\, Murrells Inlet\, SC\, 29576\, United States
ATTACH;FMTTYPE=image/jpeg:https://marshwalk.com/wp-content/uploads/2026/01/marshiii-scaled.jpg
END:VEVENT
BEGIN:VEVENT
DTSTART;TZID=America/New_York:20260221T110000
DTEND;TZID=America/New_York:20260222T160000
DTSTAMP:20260421T080047
CREATED:20260116T163154Z
LAST-MODIFIED:20260116T165832Z
UID:2299-1771671600-1771776000@marshwalk.com
SUMMARY:12th Annual Taste of the MarshWalk
DESCRIPTION:It’s the perfect time of year to savor the incredible flavors of the 12th Annual Taste of the MarshWalk\, happening February 21 & 22 from 11 AM to 4 PM! \nSample the chef’s favorite dishes from each of our eight award-winning MarshWalk restaurants while enjoying a lively weekend along the inlet. Local artisans and crafters\, live music\, and kids’ activities will line the MarshWalk both days\, creating a fun-filled experience for the entire family. \nSmall dish tastings will feature the area’s freshest local seafood\, along with delicious non-seafood options for land lovers\, priced at $5–$8 per sample. Tickets are not needed for this event. \nFull menu coming soon! \nCome hungry and enjoy a true taste of Murrells Inlet right here along South Carolina’s stunning Hammock Coast.
URL:https://marshwalk.com/calendar/12th-annual-taste-of-the-marshwalk/
LOCATION:The Murrells Inlet MarshWalk\, 4025 Hwy 17 Business\, Murrells Inlet\, SC\, 29576\, United States
ATTACH;FMTTYPE=image/jpeg:https://marshwalk.com/wp-content/uploads/2026/01/taste-mw-26.jpg
END:VEVENT
END:VCALENDAR